BEGIN:VCALENDAR
VERSION:2.0
PRODID:-//The Truffle Farm - ECPv6.15.20//NONSGML v1.0//EN
CALSCALE:GREGORIAN
METHOD:PUBLISH
X-ORIGINAL-URL:https://thetrufflefarm.ca
X-WR-CALDESC:Events for The Truffle Farm
REFRESH-INTERVAL;VALUE=DURATION:PT1H
X-Robots-Tag:noindex
X-PUBLISHED-TTL:PT1H
BEGIN:VTIMEZONE
TZID:America/Vancouver
BEGIN:DAYLIGHT
TZOFFSETFROM:-0800
TZOFFSETTO:-0700
TZNAME:PDT
DTSTART:20230312T100000
END:DAYLIGHT
BEGIN:STANDARD
TZOFFSETFROM:-0700
TZOFFSETTO:-0800
TZNAME:PST
DTSTART:20231105T090000
END:STANDARD
BEGIN:DAYLIGHT
TZOFFSETFROM:-0800
TZOFFSETTO:-0700
TZNAME:PDT
DTSTART:20240310T100000
END:DAYLIGHT
BEGIN:STANDARD
TZOFFSETFROM:-0700
TZOFFSETTO:-0800
TZNAME:PST
DTSTART:20241103T090000
END:STANDARD
BEGIN:DAYLIGHT
TZOFFSETFROM:-0800
TZOFFSETTO:-0700
TZNAME:PDT
DTSTART:20250309T100000
END:DAYLIGHT
BEGIN:STANDARD
TZOFFSETFROM:-0700
TZOFFSETTO:-0800
TZNAME:PST
DTSTART:20251102T090000
END:STANDARD
END:VTIMEZONE
BEGIN:VEVENT
DTSTART;TZID=America/Vancouver:20241116T093000
DTEND;TZID=America/Vancouver:20241116T113000
DTSTAMP:20260420T025636
CREATED:20240807T030841Z
LAST-MODIFIED:20241121T181719Z
UID:6597-1731749400-1731756600@thetrufflefarm.ca
SUMMARY:SOLD OUT Winter Wreath Art Workshop in Parksville\, Saturday Nov. 16/2024
DESCRIPTION:Imagine arriving to have warm cider and truffled snacks as you select your perfect space to design your one-of-a-kind winter wreath. The course is a 2 hour course which will be lead by Virginia (owner of The Truffle Farm)  We will work together learning the fundamentals of how to create your winter wreath creation. Direct from our property we harvest a variety evergreens\, pinecones\, berries\, salal\, cinnamon sticks\, dried oranges and ribbons to design your masterpiece.  Just bring your creative mind or will to want to lose yourself for a few hours at the truffle farm.  Relax\, bring your smile and comfy shoes and get ready for the winter season. \n  \nFor our Parksville\, B.C. Art Workshop with Winter Wreaths we offer:\n\nAir-conditioned space in The Truffle Barn\nTruffle infused Snacks\nDrinks to pair with the snacks\nSmall Classes 25 max\nOne on one coaching\n2 hour event – $95 per person\n\n  \n5:30-7:30 pm  Pictures are welcomed store shopping after is available. \nThis date is for Saturday\, Nov. 16/2024 – there is another date available at Our Events in Parksville\, B.C. at The Truffle Farm for Friday\, Nov. 15th/2024 if it’s better for you.
URL:https://thetrufflefarm.ca/event/in-parksville-saturday-nov-16/
LOCATION:The Truffle Farm Activity Barn\, 420 Lowrys Rd\, Parksville\, British Columbia\, V9P2P5\, Canada
CATEGORIES:Winter Wreath Workshop
ATTACH;FMTTYPE=image/avif:https://thetrufflefarm.ca/wp-content/uploads/2024/08/Screenshot-2024-08-06-at-11.00.44 AM.avif
ORGANIZER;CN="Virginia Brietzke":MAILTO:virginiabrietzke@gmail.com
END:VEVENT
END:VCALENDAR