BEGIN:VCALENDAR
VERSION:2.0
PRODID:-//The Truffle Farm - ECPv6.15.20//NONSGML v1.0//EN
CALSCALE:GREGORIAN
METHOD:PUBLISH
X-ORIGINAL-URL:https://thetrufflefarm.ca
X-WR-CALDESC:Events for The Truffle Farm
REFRESH-INTERVAL;VALUE=DURATION:PT1H
X-Robots-Tag:noindex
X-PUBLISHED-TTL:PT1H
BEGIN:VTIMEZONE
TZID:America/Vancouver
BEGIN:DAYLIGHT
TZOFFSETFROM:-0800
TZOFFSETTO:-0700
TZNAME:PDT
DTSTART:20250309T100000
END:DAYLIGHT
BEGIN:STANDARD
TZOFFSETFROM:-0700
TZOFFSETTO:-0800
TZNAME:PST
DTSTART:20251102T090000
END:STANDARD
BEGIN:DAYLIGHT
TZOFFSETFROM:-0800
TZOFFSETTO:-0700
TZNAME:PDT
DTSTART:20260308T100000
END:DAYLIGHT
BEGIN:STANDARD
TZOFFSETFROM:-0700
TZOFFSETTO:-0800
TZNAME:PST
DTSTART:20261101T090000
END:STANDARD
BEGIN:DAYLIGHT
TZOFFSETFROM:-0800
TZOFFSETTO:-0700
TZNAME:PDT
DTSTART:20270314T100000
END:DAYLIGHT
BEGIN:STANDARD
TZOFFSETFROM:-0700
TZOFFSETTO:-0800
TZNAME:PST
DTSTART:20271107T090000
END:STANDARD
END:VTIMEZONE
BEGIN:VEVENT
DTSTART;TZID=America/Vancouver:20260801T130000
DTEND;TZID=America/Vancouver:20260801T150000
DTSTAMP:20260425T193121
CREATED:20260204T020342Z
LAST-MODIFIED:20260204T020518Z
UID:8878-1785589200-1785596400@thetrufflefarm.ca
SUMMARY:You Pick Sunflower Floral Design Workshop - August 1\, 2026
DESCRIPTION:Join us for a joyful midsummer floral experience surrounded by golden fields and warm breezes. Guests will head into the gardens to pick their own sunflowers\, choosing the colours\, shapes\, and sizes that speak to them. Then we’ll gather together to design a sunflowerinspired arrangement that feels bright\, bold\, and beautifully personal.  \nWhat the workshop includes  \n\nYou pick sunflower harvest from the farm’s summer beds \n\n\nGuided floral design session to create a stunning arrangement \n\n\nTips on colour pairing\, structure\, and longlasting display \n\n\nTruffle infused snacks to enjoy as you create \n\n\nA relaxed\, sun soaked atmosphere perfect for creativity and connection \n\nA celebration of summer’s warmth\, the beauty of homegrown flowers\, and the simple pleasure of making something lovely with your own hands.  \n$65 each – 1pm – 3pm
URL:https://thetrufflefarm.ca/event/you-pick-sunflower-floral-design-workshop-august-1-2026/
LOCATION:The Truffle Farm Activity Barn\, 420 Lowrys Rd\, Parksville\, British Columbia\, V9P2P5\, Canada
CATEGORIES:Floral Arrangement Classes
ATTACH;FMTTYPE=image/avif:https://thetrufflefarm.ca/wp-content/uploads/2026/02/Screenshot-2026-02-03-at-5.59.15-PM.avif
ORGANIZER;CN="Virginia Brietzke":MAILTO:virginiabrietzke@gmail.com
END:VEVENT
BEGIN:VEVENT
DTSTART;TZID=America/Vancouver:20260822T173000
DTEND;TZID=America/Vancouver:20260822T193000
DTSTAMP:20260425T193121
CREATED:20260204T021408Z
LAST-MODIFIED:20260217T205015Z
UID:8881-1787419800-1787427000@thetrufflefarm.ca
SUMMARY:Cooking Class in Parksville: Gourmet Truffle Pasta from Scratch with Truffles and Wine! Aug. 22\, 2026
DESCRIPTION:Highlights \n\nLearn to mix\, knead\, and shape fresh pasta from scratch\nPerfect for a date night\, group outing\, or solo adventure\nPair the finished pasta with some wine\nGet step-by-step guidance from a talented chef\nBeginner-friendly and great for all skill levels\n\nFull description \nSavour the ultimate pairing of pasta\, Truffles and wine in this two-hour hands-on cooking class held at a charming Truffle Farm.  You’ll learn how to make fettuccine pasta from scratch\, starting with flour and eggs and finishing with hand-cut ribbons rolled to perfection\, and pair the final cooked pasta dish from scratch with some delicious wine. \nOnce your noodles are ready and adorned with Truffle\, choose your sauce adventure: a fresh basil and hazelnut pesto for a nutty\, herby finish\, or a bold and spicy cherry tomato sauce packed with flavour. Enjoy your handmade pasta in a warm cozy farm setting. This experience is perfect for date nights\, food-loving friends\, or solo travellers ready to roll. \n  \nIncluded in Our Cooking Class: \n\nAll equipment for making the pasta will be provided\nAll ingredients will be provided\nStep-by-step instructions & guidance from a talented and professional chef\n\n  \n\n		\n		\n			\n				\n			\n				\n				A close-up of hands working with dough\, showcasing the process of baking in a home kitchen.\n				\n			\n				\n			\n				\n				A chef shows the process of making fresh pasta by stretching the dough in a well-lit kitchen.\n				\n			\n				\n			\n				\n				Delicate sheets of pasta are being cut and prepared\, highlighting the art of traditional cooking.\n				\n			\n				\n			\n				\n				A beautifully plated dish of fettuccine pasta garnished with fresh greens for a vibrant presentation.
URL:https://thetrufflefarm.ca/event/cooking-class-in-parksville-gourmet-truffle-pasta-from-scratch-with-truffles-and-wine-aug-22-2026/
LOCATION:The Truffle Farm Activity Barn\, 420 Lowrys Rd\, Parksville\, British Columbia\, V9P2P5\, Canada
CATEGORIES:Cooking Classes in Parksville
ATTACH;FMTTYPE=image/avif:https://thetrufflefarm.ca/wp-content/uploads/2025/12/pasta-dish-portrait.avif
ORGANIZER;CN="Virginia Brietzke":MAILTO:virginiabrietzke@gmail.com
END:VEVENT
END:VCALENDAR